BEGIN:VCALENDAR
VERSION:2.0
PRODID:-//Blaskapelle Oehrenstock - ECPv6.15.20//NONSGML v1.0//EN
CALSCALE:GREGORIAN
METHOD:PUBLISH
X-ORIGINAL-URL:https://blaskapelle-oehrenstock.de
X-WR-CALDESC:Veranstaltungen für Blaskapelle Oehrenstock
REFRESH-INTERVAL;VALUE=DURATION:PT1H
X-Robots-Tag:noindex
X-PUBLISHED-TTL:PT1H
BEGIN:VTIMEZONE
TZID:Europe/Berlin
BEGIN:DAYLIGHT
TZOFFSETFROM:+0100
TZOFFSETTO:+0200
TZNAME:CEST
DTSTART:20220327T010000
END:DAYLIGHT
BEGIN:STANDARD
TZOFFSETFROM:+0200
TZOFFSETTO:+0100
TZNAME:CET
DTSTART:20221030T010000
END:STANDARD
BEGIN:DAYLIGHT
TZOFFSETFROM:+0100
TZOFFSETTO:+0200
TZNAME:CEST
DTSTART:20230326T010000
END:DAYLIGHT
BEGIN:STANDARD
TZOFFSETFROM:+0200
TZOFFSETTO:+0100
TZNAME:CET
DTSTART:20231029T010000
END:STANDARD
BEGIN:DAYLIGHT
TZOFFSETFROM:+0100
TZOFFSETTO:+0200
TZNAME:CEST
DTSTART:20240331T010000
END:DAYLIGHT
BEGIN:STANDARD
TZOFFSETFROM:+0200
TZOFFSETTO:+0100
TZNAME:CET
DTSTART:20241027T010000
END:STANDARD
END:VTIMEZONE
BEGIN:VTIMEZONE
TZID:UTC
BEGIN:STANDARD
TZOFFSETFROM:+0000
TZOFFSETTO:+0000
TZNAME:UTC
DTSTART:20220101T000000
END:STANDARD
END:VTIMEZONE
BEGIN:VEVENT
DTSTART;TZID=Europe/Berlin:20230518T093000
DTEND;TZID=Europe/Berlin:20230518T103000
DTSTAMP:20260422T102403
CREATED:20230511T053742Z
LAST-MODIFIED:20230511T053742Z
UID:79-1684402200-1684405800@blaskapelle-oehrenstock.de
SUMMARY:Andacht Himmelfahrt
DESCRIPTION:je nach Wetterlage an der Morgensonne oder in der Kirche Oehrenstock \nDie Andacht begleitet Pfarrer Huss.
URL:https://blaskapelle-oehrenstock.de/event/andacht-himmelfahrt/
END:VEVENT
BEGIN:VEVENT
DTSTART;VALUE=DATE:20230521
DTEND;VALUE=DATE:20230522
DTSTAMP:20260422T102403
CREATED:20230511T054133Z
LAST-MODIFIED:20230511T054133Z
UID:81-1684627200-1684713599@blaskapelle-oehrenstock.de
SUMMARY:Musikfest Oberlind
DESCRIPTION:
URL:https://blaskapelle-oehrenstock.de/event/musikfest-oberlind/
LOCATION:Oberlind\, Sonneberg OT Oberlind\, Thüringen\, Deutschland
END:VEVENT
BEGIN:VEVENT
DTSTART;VALUE=DATE:20230527
DTEND;VALUE=DATE:20230529
DTSTAMP:20260422T102403
CREATED:20230510T133217Z
LAST-MODIFIED:20230510T134205Z
UID:60-1685145600-1685318399@blaskapelle-oehrenstock.de
SUMMARY:Pfingstanblasen 2023
DESCRIPTION:Wir feiern 190 Jahre Blaskapelle Oehrenstock und das traditionelle Pfingstanblasen \nAm 27.5.2023 begrüßen wir euch ab 19 Uhr zu unserem Festkommers\, anschließend könnt ihr bei flotter DJ-Musik das Tanzbein schwingen und am Sonntag genießen wir zusammen ab 9.30 Uhr unser traditionelles Pfingstanblasen. \nDas Ganze findet auf dem Festplatz in Oehrenstock statt und falls der Wettergott uns nicht ganz so wohlgesonnen ist\, brauht ihr euch keine Sorgen machen: Wir haben ein Festzelt!
URL:https://blaskapelle-oehrenstock.de/event/pfingstanblasen-2023/
LOCATION:Festplatz Oehrenstock\, Ilmenau OT Oehrenstock\, Thüringen\, 98693\, Deutschland
CATEGORIES:Musikfest,Pfingstanblasen
END:VEVENT
END:VCALENDAR